BEGIN:VCALENDAR
VERSION:2.0
PRODID:-//eventon.com NONSGML v1.0//EN
BEGIN:VEVENT
UID:69ea4cb0bfc9d
DTSTAMP:20260423T184536
DTSTART:20190608T080000Z
DTEND:20190608T103000Z
LOCATION:
SUMMARY:Réguler ses émotions
DESCRIPTION: Je vous propose des Ateliers à thèmes un samedi par mois au sein de mon cabinet de 10h à 12h30 Ces ateliers allient des apports théoriques comme supports de compréhension\,  et une approche qui s'appuie sur la richesse du groupe\,  les échanges\,  les mises en situations\,  des pratiques de sophrologie. Vous[..]
END:VEVENT
END:VCALENDAR